BEGIN:VCALENDAR
VERSION:2.0
PRODID:-//wp-events-plugin.com//7.2.3.1//EN
TZID:America/Vancouver
X-WR-TIMEZONE:America/Vancouver
BEGIN:VEVENT
UID:133@pacificgolfclub.ca
DTSTART;TZID=America/Vancouver:20260530T000000
DTEND;TZID=America/Vancouver:20260530T234500
DTSTAMP:20260420T033234Z
URL:https://pacificgolfclub.ca/events/surrey-1200pm-80-game-tba/
SUMMARY:Surrey 12:00pm: $80 - Game TBA
DESCRIPTION:
ATTACH;FMTTYPE=image/jpeg:https://pacificgolfclub.ca/wp-content/uploads/20
 24/02/surrey-1.jpg
LOCATION:Surrey Golf Course\, 7700 – 168 St\, Surrey\, BC\, V4N 0E1\, Can
 ada
GEO:49.140646;-122.747002
X-APPLE-STRUCTURED-LOCATION;VALUE=URI;X-ADDRESS=7700 – 168 St\, Surrey\, 
 BC\, V4N 0E1\, Canada;X-APPLE-RADIUS=100;X-TITLE=Surrey Golf Course:geo:49
 .140646,-122.747002
END:VEVENT
BEGIN:VTIMEZONE
TZID:America/Vancouver
X-LIC-LOCATION:America/Vancouver
BEGIN:DAYLIGHT
DTSTART:20260308T030000
TZOFFSETFROM:-0800
TZOFFSETTO:-0700
TZNAME:PDT
END:DAYLIGHT
END:VTIMEZONE
END:VCALENDAR